BEGIN:VCALENDAR
VERSION:2.0
PRODID:-//ReadWest - ECPv6.15.17.1//NONSGML v1.0//EN
CALSCALE:GREGORIAN
METHOD:PUBLISH
X-WR-CALNAME:ReadWest
X-ORIGINAL-URL:https://readwest.org
X-WR-CALDESC:Events for ReadWest
REFRESH-INTERVAL;VALUE=DURATION:PT1H
X-Robots-Tag:noindex
X-PUBLISHED-TTL:PT1H
BEGIN:VTIMEZONE
TZID:America/Denver
BEGIN:DAYLIGHT
TZOFFSETFROM:-0700
TZOFFSETTO:-0600
TZNAME:MDT
DTSTART:20170312T090000
END:DAYLIGHT
BEGIN:STANDARD
TZOFFSETFROM:-0600
TZOFFSETTO:-0700
TZNAME:MST
DTSTART:20171105T080000
END:STANDARD
BEGIN:DAYLIGHT
TZOFFSETFROM:-0700
TZOFFSETTO:-0600
TZNAME:MDT
DTSTART:20180311T090000
END:DAYLIGHT
BEGIN:STANDARD
TZOFFSETFROM:-0600
TZOFFSETTO:-0700
TZNAME:MST
DTSTART:20181104T080000
END:STANDARD
BEGIN:DAYLIGHT
TZOFFSETFROM:-0700
TZOFFSETTO:-0600
TZNAME:MDT
DTSTART:20190310T090000
END:DAYLIGHT
BEGIN:STANDARD
TZOFFSETFROM:-0600
TZOFFSETTO:-0700
TZNAME:MST
DTSTART:20191103T080000
END:STANDARD
BEGIN:DAYLIGHT
TZOFFSETFROM:-0700
TZOFFSETTO:-0600
TZNAME:MDT
DTSTART:20200308T090000
END:DAYLIGHT
BEGIN:STANDARD
TZOFFSETFROM:-0600
TZOFFSETTO:-0700
TZNAME:MST
DTSTART:20201101T080000
END:STANDARD
BEGIN:DAYLIGHT
TZOFFSETFROM:-0700
TZOFFSETTO:-0600
TZNAME:MDT
DTSTART:20210314T090000
END:DAYLIGHT
BEGIN:STANDARD
TZOFFSETFROM:-0600
TZOFFSETTO:-0700
TZNAME:MST
DTSTART:20211107T080000
END:STANDARD
BEGIN:DAYLIGHT
TZOFFSETFROM:-0700
TZOFFSETTO:-0600
TZNAME:MDT
DTSTART:20220313T090000
END:DAYLIGHT
BEGIN:STANDARD
TZOFFSETFROM:-0600
TZOFFSETTO:-0700
TZNAME:MST
DTSTART:20221106T080000
END:STANDARD
BEGIN:DAYLIGHT
TZOFFSETFROM:-0700
TZOFFSETTO:-0600
TZNAME:MDT
DTSTART:20230312T090000
END:DAYLIGHT
BEGIN:STANDARD
TZOFFSETFROM:-0600
TZOFFSETTO:-0700
TZNAME:MST
DTSTART:20231105T080000
END:STANDARD
BEGIN:DAYLIGHT
TZOFFSETFROM:-0700
TZOFFSETTO:-0600
TZNAME:MDT
DTSTART:20240310T090000
END:DAYLIGHT
BEGIN:STANDARD
TZOFFSETFROM:-0600
TZOFFSETTO:-0700
TZNAME:MST
DTSTART:20241103T080000
END:STANDARD
BEGIN:DAYLIGHT
TZOFFSETFROM:-0700
TZOFFSETTO:-0600
TZNAME:MDT
DTSTART:20250309T090000
END:DAYLIGHT
BEGIN:STANDARD
TZOFFSETFROM:-0600
TZOFFSETTO:-0700
TZNAME:MST
DTSTART:20251102T080000
END:STANDARD
END:VTIMEZONE
BEGIN:VEVENT
DTSTART;TZID=America/Denver:20240210T120000
DTEND;TZID=America/Denver:20240210T160000
DTSTAMP:20260420T072644
CREATED:20231027T155910Z
LAST-MODIFIED:20240103T180218Z
UID:4263-1707566400-1707580800@readwest.org
SUMMARY:Bowling for Literacy
DESCRIPTION:Starlight Lanes at the Santa Ana Casino\n54 Jemez Canyon Dam Rd.\, Santa Ana Pueblo\nDate: Saturday\, February 10\, 2024\nTime: 12:00 pm – 4:00 pm \nDownload/Print Registration Form
URL:https://readwest.org/event/bowling-for-literacy-2024/
LOCATION:Starlight Lanes at the Santa Ana Casino\, 54 Jemez Canyon Dam Rd\, Bernalillo\, NM\, 87004\, United States
END:VEVENT
BEGIN:VEVENT
DTSTART;VALUE=DATE:20230711
DTEND;VALUE=DATE:20230901
DTSTAMP:20260420T072644
CREATED:20231026T215610Z
LAST-MODIFIED:20231026T215610Z
UID:4249-1689033600-1693526399@readwest.org
SUMMARY:What a Character Fundraiser!
DESCRIPTION:WHAT A CHARACTER FUNDRAISER 2023- WINNING BID $500 \nDon’t miss this unique opportunity to have a character named after you or someone you love or honor in a future novel by New York Times bestselling New Mexico author Anne Hillerman. Anne will also mention you in the acknowledgements. \nHer Southwest mysteries follow the adventures of Navajo Tribal Police Officer Bernadette Manuelito and her colleagues\, Navajo Tribal Police Sergeant Jim Chee and retired Lieutenant Joe Leaphorn. “The Way of the Bear\,” the eighth book in the exciting series\, was released on April 25\, 2022. The next novel in the series is now in progress. She is continuing the series her father\, Tony Hillerman\, began many years ago. Their stories and character form the inspiration for the new television series Dark Winds. \nHere’s a chance to have your name in an incredible forthcoming mystery novel that brings the American Southwest to life.  Best of all\, this will benefit the important work that ReadWest does. \nA few rules and conditions: \nThe author reserves the right to use your name as she sees fit.  She promises not to make you a villain\, although you might end up dead in the book. She reserves the right to reject any name she may deem inappropriate\, offensive\, or ill-intentioned. \nThis auction is for the name only. The winning bidder does not have any role in helping determine the storyline\, the character’s personality\, or physical description. That’s all up to Anne. \nParticipation in the name auction acknowledges that you understand and agree to these rules and conditions.
URL:https://readwest.org/event/what-a-character-fundraiser/
LOCATION:NM
CATEGORIES:Fundraising
ATTACH;FMTTYPE=image/jpeg:https://readwest.org/wp-content/uploads/2023/07/unnamed-3.jpg
END:VEVENT
BEGIN:VEVENT
DTSTART;TZID=America/Denver:20230325T123000
DTEND;TZID=America/Denver:20230325T160000
DTSTAMP:20260420T072644
CREATED:20230224T191249Z
LAST-MODIFIED:20230227T154051Z
UID:4215-1679747400-1679760000@readwest.org
SUMMARY:Bowling for Literacy
DESCRIPTION:Bowling for Literacy is Back!\nStarlight Lanes at the Santa Ana Casino\n54 Jemez Canyon Dam Rd.\, Santa Ana Pueblo\nDate: Saturday\, March 25\, 2023\nTime: 12:30 pm – 4:00 pm\n4 person teams\, $25 per person or $100 per team\,\nincludes 3 games and the shoe rental is included in the price. \nTo register for this event\, download the registration HERE. \nSponsored in part by: \n \nThe Dreyfus family\, K. Porter\, and our Bowlers. \n 
URL:https://readwest.org/event/bowling-for-literacy-2023/
LOCATION:Starlight Lanes at the Santa Ana Casino\, 54 Jemez Canyon Dam Rd\, Bernalillo\, NM\, 87004\, United States
END:VEVENT
BEGIN:VEVENT
DTSTART;TZID=America/Denver:20190828T183000
DTEND;TZID=America/Denver:20190828T200000
DTSTAMP:20260420T072644
CREATED:20190806T015327Z
LAST-MODIFIED:20190806T163849Z
UID:3054-1567017000-1567022400@readwest.org
SUMMARY:Spaghetti Dinner Fundraiser
DESCRIPTION:Come and get to know us over a delicious plate of spaghetti!\nWhere: Joe’s Pasta House\, 3201 Southern Blvd SE\, Rio Rancho\, NM 87124 \nWhen: Wednesday\, August 28th at 6:30 pm \nCost: $35 per person. Tickets must be purchased by Monday\, August 26th at 4:30 pm. \nMeal includes: Spaghetti with meatballs\, bread service\, salad\, water\, iced tea\, and a mini cannoli. No substitutions! \nProceeds support adult literacy in Sandoval and Bernalillo counties. \n  \nReserve your seat today!
URL:https://readwest.org/event/spaghetti-dinner-fundraiser/
LOCATION:Joe’s Pasta House\, 3201 Southern Blvd SE\, Rio Rancho\, NM\, 87124\, United States
END:VEVENT
BEGIN:VEVENT
DTSTART;TZID=America/Denver:20190223T130000
DTEND;TZID=America/Denver:20190223T153000
DTSTAMP:20260420T072644
CREATED:20190128T212740Z
LAST-MODIFIED:20190225T214747Z
UID:2827-1550926800-1550935800@readwest.org
SUMMARY:Bowling for Literacy
DESCRIPTION:Sponsored by Abrazo Homes\n  \nWHEN: SATURDAY\, FEBRUARY 23\, 2019 Check-in at 1:00 pm\, Opening Comments 1:30 start bowling 2:00\nWHERE: Starlight Bowling Bar and Grill (Located at the Santa Star Casino) 54 Jemez Canyon Dam Rd\, Santa Ana Pueblo\, NM 87004\nFORMAT: No Tap 4 individual Team Event 3 Game Set\nFEES: $25.00 per person\, $100.00 per team (sponsors welcome). \nYour participation in this important team bowling event will help ReadWest\, Inc. provide free adult literacy services to people in our community who cannot read\, write or communicate in English. Help us help others achieve their dreams with the gift of literacy. \nFour people on a team get to bowl 3 games cross lane bowling\, shoe rental included. The real fun is the type of game – Nine Pin No Tap. If you knock down 9 pins\, you get a strike! The scoring is BIG! Medals will be awarded to the players on the winning teams 1st\, 2nd\, and 3rd. Represent your business or organization! Come join the fun and support literacy in our community! There will be 50/50 drawing each game. This is a family event so the kids can also form teams and bowl. \n 
URL:https://readwest.org/event/bowling-for-literacy/
LOCATION:Starlight Bowling Bar and Grill\, 54 Jemez Canyon Dam Rd.\, Santa Ana Pueblo\, NM\, 87004
CATEGORIES:Fundraising
END:VEVENT
BEGIN:VEVENT
DTSTART;TZID=America/Denver:20190126T090000
DTEND;TZID=America/Denver:20190126T170000
DTSTAMP:20260420T072644
CREATED:20190118T184232Z
LAST-MODIFIED:20190118T200053Z
UID:2811-1548493200-1548522000@readwest.org
SUMMARY:ESL Tutor Training
DESCRIPTION:  \nDuring training the NMCL trainer will have each potential tutor learn and demonstrate the following: \n\nthe first day of class with their student\nlesson planning\nrecognize learning styles\nhow to approach a low literacy adult learner\nreview tracking progress and monthly reporting\n\n  \nOnce training is complete\, the tutor will receive a certificate of completion and a library card to the ReadWest resource library. Soon after training each tutor will be paired with a one-on-one adult learner. \nLunch is on your own.
URL:https://readwest.org/event/esl-tutor-training/
LOCATION:St. Francis Episcopal Church\, 2903 Cabezon Blvd. SE\, Rio Rancho\, 87124\, United States
CATEGORIES:Training
ORGANIZER;CN="Cyndy Ratliff":MAILTO:cyndy.ratliff@readwest.org
END:VEVENT
BEGIN:VEVENT
DTSTART;TZID=America/Denver:20190124T180000
DTEND;TZID=America/Denver:20190124T193000
DTSTAMP:20260420T072644
CREATED:20190118T183220Z
LAST-MODIFIED:20190118T195844Z
UID:2809-1548352800-1548358200@readwest.org
SUMMARY:Tutor Orientation
DESCRIPTION:  \nDuring orientation\, prospective tutors will learn about the ReadWest program\, the role and responsibilities of a tutor\, and receive a brief overview of what the training will be like. Potential tutors will then fill out an intake form and have the opportunity to ask questions. Lastly\, tutors will need to purchase the “I Speak” training manual for $20.
URL:https://readwest.org/event/tutor-orientation-2/
LOCATION:ReadWest\, 103 Rio Rancho Blvd NE\, Suite A-5\, Rio Rancho\, NM\, 87124\, United States
CATEGORIES:Training
ORGANIZER;CN="Cyndy Ratliff":MAILTO:cyndy.ratliff@readwest.org
END:VEVENT
BEGIN:VEVENT
DTSTART;TZID=America/Denver:20190124T100000
DTEND;TZID=America/Denver:20190124T113000
DTSTAMP:20260420T072644
CREATED:20190118T183130Z
LAST-MODIFIED:20190118T195810Z
UID:2801-1548324000-1548329400@readwest.org
SUMMARY:Tutor Orientation
DESCRIPTION:  \nDuring orientation\, prospective tutors will learn about the ReadWest program\, the role and responsibilities of a tutor\, and receive a brief overview of what the training will be like. Potential tutors will then fill out an intake form and have the opportunity to ask questions. Lastly\, tutors will need to purchase the “I Speak” training manual for $20.
URL:https://readwest.org/event/tutor-orientation/
LOCATION:ReadWest\, 103 Rio Rancho Blvd NE\, Suite A-5\, Rio Rancho\, NM\, 87124\, United States
CATEGORIES:Training
ORGANIZER;CN="Cyndy Ratliff":MAILTO:cyndy.ratliff@readwest.org
END:VEVENT
BEGIN:VEVENT
DTSTART;TZID=America/Denver:20190123T150000
DTEND;TZID=America/Denver:20190123T180000
DTSTAMP:20260420T072644
CREATED:20190115T024635Z
LAST-MODIFIED:20190115T024731Z
UID:2793-1548255600-1548266400@readwest.org
SUMMARY:Ribbon Cutting and Open House
DESCRIPTION:Join us for the grand opening of our new facility. Rio Rancho Mayor Greg Hull will begin with a traditional ribbon cutting ceremony at 3 PM followed by an open house until 6 PM. Come see our new office\, resource library\, and tutoring rooms. Enjoy light refreshments and visit with the ReadWest Board of Directors and Staff.
URL:https://readwest.org/event/ribbon-cutting/
LOCATION:ReadWest\, 103 Rio Rancho Blvd NE\, Ste. A-5\, Rio Rancho\, NM\, 87124\, United States
CATEGORIES:Fundraising
END:VEVENT
BEGIN:VEVENT
DTSTART;TZID=America/Denver:20181201T120000
DTEND;TZID=America/Denver:20181201T140000
DTSTAMP:20260420T072644
CREATED:20181125T144338Z
LAST-MODIFIED:20181125T144445Z
UID:2738-1543665600-1543672800@readwest.org
SUMMARY:Holiday Potluck
DESCRIPTION:Join us for our Holiday Potluck on Saturday\, December 1st from 12:00 pm to 2:00 pm at St. Francis Episcopal Church. \nBring yourself and a covered dish to share with everyone. \nPlease RSVP to ReadWest@readwest.org by 12:00 pm (noon) on November 30th.
URL:https://readwest.org/event/holiday-potluck/
LOCATION:St. Francis Episcopal Church\, 2903 Cabezon Blvd. SE\, Rio Rancho\, 87124\, United States
END:VEVENT
BEGIN:VEVENT
DTSTART;TZID=America/Denver:20180819T120000
DTEND;TZID=America/Denver:20180819T160000
DTSTAMP:20260420T072644
CREATED:20180816T145133Z
LAST-MODIFIED:20180816T145133Z
UID:2567-1534680000-1534694400@readwest.org
SUMMARY:Booth at the Mayor's Sunday is Funday
DESCRIPTION:We will have a booth at the Mayor’s Sunday is Funday where we will have a large selection of books available. A donation of a dollar will get you one book. All proceeds benefit our programs.
URL:https://readwest.org/event/booth-at-the-mayors-sunday-is-funday/
LOCATION:Haynes Park and Pool\, 2006 Grande Blvd. SE\, Rio Rancho\, NM\, 87124\, United States
CATEGORIES:Fundraising
END:VEVENT
BEGIN:VEVENT
DTSTART;TZID=America/Denver:20180819T120000
DTEND;TZID=America/Denver:20180819T160000
DTSTAMP:20260420T072644
CREATED:20180605T213500Z
LAST-MODIFIED:20180605T213500Z
UID:2523-1534680000-1534694400@readwest.org
SUMMARY:Mayor's Sunday is Funday
DESCRIPTION:
URL:https://readwest.org/event/mayors-sunday-is-funday/
LOCATION:Haynes Park and Pool\, 2006 Grande Blvd. SE\, Rio Rancho\, NM\, 87124\, United States
END:VEVENT
END:VCALENDAR