BEGIN:VCALENDAR
VERSION:2.0
PRODID:-//ReadWest - ECPv6.15.17.1//NONSGML v1.0//EN
CALSCALE:GREGORIAN
METHOD:PUBLISH
X-WR-CALNAME:ReadWest
X-ORIGINAL-URL:https://readwest.org
X-WR-CALDESC:Events for ReadWest
REFRESH-INTERVAL;VALUE=DURATION:PT1H
X-Robots-Tag:noindex
X-PUBLISHED-TTL:PT1H
BEGIN:VTIMEZONE
TZID:America/Denver
BEGIN:DAYLIGHT
TZOFFSETFROM:-0700
TZOFFSETTO:-0600
TZNAME:MDT
DTSTART:20250309T090000
END:DAYLIGHT
BEGIN:STANDARD
TZOFFSETFROM:-0600
TZOFFSETTO:-0700
TZNAME:MST
DTSTART:20251102T080000
END:STANDARD
BEGIN:DAYLIGHT
TZOFFSETFROM:-0700
TZOFFSETTO:-0600
TZNAME:MDT
DTSTART:20260308T090000
END:DAYLIGHT
BEGIN:STANDARD
TZOFFSETFROM:-0600
TZOFFSETTO:-0700
TZNAME:MST
DTSTART:20261101T080000
END:STANDARD
BEGIN:DAYLIGHT
TZOFFSETFROM:-0700
TZOFFSETTO:-0600
TZNAME:MDT
DTSTART:20270314T090000
END:DAYLIGHT
BEGIN:STANDARD
TZOFFSETFROM:-0600
TZOFFSETTO:-0700
TZNAME:MST
DTSTART:20271107T080000
END:STANDARD
END:VTIMEZONE
BEGIN:VEVENT
DTSTART;TZID=America/Denver:20260307T120000
DTEND;TZID=America/Denver:20260307T160000
DTSTAMP:20260420T054341
CREATED:20260210T181718Z
LAST-MODIFIED:20260210T191057Z
UID:4572-1772884800-1772899200@readwest.org
SUMMARY:Bowling for Literacy 2026
DESCRIPTION:Get the ball rolling towards literacy. \nCheck-in 12:00\, Opening Bell 12:30 \nWHERE: Starlight Lanes (Located at the Santa Ana Star Casino) 54 Jemez Canyon Dam Rd\, Santa Ana Pueblo\, NM 87004 \nFORMAT: No Tap 4 individual Team Event 3 Game Set\n(Shoes Included in price) \nFEES: $30.00 per person\, $120.00 per team (plus a $4.20 processing fee) \nREGISTRATION: \n\nComplete the linked registration form with details about your team. REGISTRATION FORM >>\nPay for your team registration. PAY FOR TEAM >>\n\nCONTACT:\nReadWest 505-892-1131\nEmail: readwest@readwest.org
URL:https://readwest.org/event/bowling-for-literacy-2026/
LOCATION:Starlight Bowling Bar and Grill\, 54 Jemez Canyon Dam Rd.\, Santa Ana Pueblo\, NM\, 87004
CATEGORIES:Fundraising
ATTACH;FMTTYPE=image/jpeg:https://readwest.org/wp-content/uploads/2026/02/Bowling-for-Lit-Flyer-2026.jpeg
END:VEVENT
END:VCALENDAR